Workbook
Name \a: #REF!
Name A_IMPRESIÓN_IM: #N/A
Name AAA: #REF!
Name ACCIONES: #N/A
Name ANEXO: #N/A
Name carte: '[1]CUADRO INV. NO NEG. TESORERIA'!#REF!
Name cartera: '[1]CUADRO INV. NO NEG. TESORERIA'!#REF!
Name COMPROBANTE: #N/A

Sheet HW Operaciones Recíprocas
B1: DEPARTAMENTO | C1: CUNDINAMARCA
B2: MUNICIPIO | C2: BOGOTA
B3: ENTIDAD | C3: LA PREVISORA S.A. COMPANIA DE SEGUROS
B4: CÓDIGO | H4: Incluir Universidad Nacional - Siniestros
B5: FECHA DE CORTE | C5: 31/12/2021
B7: INFORMACION SOBRE SALDOS DE OPERACIONES RECIPROCAS
E8: Valores en pesos colombianos
B10: CODIGO CONTABLE (SUBCUENTA) | C10: NOMBRE DE LA SUBCUENTA | D10: CODIGO ENTIDAD | E10: NOMBRE ENTIDAD | F10: VALOR CORRIENTE A NIVEL NACIONAL | G10: VALOR NO CORRIENTE A NIVEL NACIONAL
B11: 111005 | C11: =VLOOKUP(B11,PUC!$A$3:$B$3395,2,0) -> Cuenta corriente | D11: 69600000 | E11: =VLOOKUP(D11,#REF!,3,0) -> #REF! | F11: 2.5341458e+08 | G11: 0
B12: 122101 | C12: =VLOOKUP(B12,PUC!$A$3:$B$3395,2,0) -> Títulos de tesorería (TES) | D12: 923272395 | E12: =VLOOKUP(D12,#REF!,3,0) -> #REF! | F12: 0 | G12: 4.3953054e+10
B13: 122106 | C13: =VLOOKUP(B13,PUC!$A$3:$B$3395,2,0) -> Bonos y títulos emitidos por el Gobierno General | D13: 923272395 | E13: =VLOOKUP(D13,#REF!,3,0) -> #REF! | F13: 0 | G13: 2.2270928e+10
B14: 122108 | C14: =VLOOKUP(B14,PUC!$A$3:$B$3395,2,0) -> Bonos y títulos emitidos por las entidades financieras | D14: 41200000 | E14: =VLOOKUP(D14,#REF!,3,0) -> #REF! | F14: 5123040000 | G14: 0
B15: 122308 | C15: =VLOOKUP(B15,PUC!$A$3:$B$3395,2,0) -> Bonos y títulos emitidos por las entidades financieras | D15: 41200000 | E15: =VLOOKUP(D15,#REF!,3,0) -> #REF! | F15: 0 | G15: 2002194116
B16: 122108 | C16: =VLOOKUP(B16,PUC!$A$3:$B$3395,2,0) -> Bonos y títulos emitidos por las entidades financieras | D16: 44200000 | E16: =VLOOKUP(D16,#REF!,3,0) -> #REF! | F16: 0 | G16: 5220150000
B17: 122302 | C17: =VLOOKUP(B17,PUC!$A$3:$B$3395,2,0) -> Certificados de depósito a término (CDT) | D17: 44200000 | E17: =VLOOKUP(D17,#REF!,3,0) -> #REF! | F17: 0 | G17: 4011869983
B18: 122301 | C18: =VLOOKUP(B18,PUC!$A$3:$B$3395,2,0) -> Títulos de tesorería (TES) | D18: 923272395 | E18: =VLOOKUP(D18,#REF!,3,0) -> #REF! | F18: 0 | G18: 1.297537e+11
B19: 122306 | C19: =VLOOKUP(B19,PUC!$A$3:$B$3395,2,0) -> Bonos y títulos emitidos por el Gobierno General | D19: 923272395 | E19: =VLOOKUP(D19,#REF!,3,0) -> #REF! | F19: 0 | G19: 1.3933065e+10
B20: 122604 | C20: =VLOOKUP(B20,PUC!$A$3:$B$3395,2,0) -> Sociedades de economía mixta | D20: 44600000 | E20: =VLOOKUP(D20,#REF!,3,0) -> #REF! | F20: 0 | G20: 2.8288715e+11
B21: 122904 | C21: =VLOOKUP(B21,PUC!$A$3:$B$3395,2,0) -> Sociedades de economía mixta | D21: 41100000 | E21: =VLOOKUP(D21,#REF!,3,0) -> #REF! | F21: 0 | G21: 6.0550733e+10
B22: 131706 | C22: =VLOOKUP(B22,PUC!$A$3:$B$3395,2,0) -> Servicios de seguros y reaseguros | D22: 12200000 | E22: =VLOOKUP(D22,#REF!,3,0) -> #REF! | F22: 546573 | G22: 0
B23: 131706 | C23: =VLOOKUP(B23,PUC!$A$3:$B$3395,2,0) -> Servicios de seguros y reaseguros | D23: 12300000 | E23: =VLOOKUP(D23,#REF!,3,0) -> #REF! | F23: 101867959
B24: 131706 | C24: =VLOOKUP(B24,PUC!$A$3:$B$3395,2,0) -> Servicios de seguros y reaseguros | D24: 12400000 | E24: =VLOOKUP(D24,#REF!,3,0) -> #REF! | F24: 58786784
B25: 131706 | C25: =VLOOKUP(B25,PUC!$A$3:$B$3395,2,0) -> Servicios de seguros y reaseguros | D25: 13000000 | E25: =VLOOKUP(D25,#REF!,3,0) -> #REF! | F25: 4580250
B26: 131706 | C26: =VLOOKUP(B26,PUC!$A$3:$B$3395,2,0) -> Servicios de seguros y reaseguros | D26: 13900000 | E26: =VLOOKUP(D26,#REF!,3,0) -> #REF! | F26: 1.8597752e+08
B27: 131706 | C27: =VLOOKUP(B27,PUC!$A$3:$B$3395,2,0) -> Servicios de seguros y reaseguros | D27: 20188000 | E27: =VLOOKUP(D27,#REF!,3,0) -> #REF! | F27: 8103425
B28: 131706 | C28: =VLOOKUP(B28,PUC!$A$3:$B$3395,2,0) -> Servicios de seguros y reaseguros | D28: 20900000 | E28: =VLOOKUP(D28,#REF!,3,0) -> #REF! | F28: 97864116
B29: 131706 | C29: =VLOOKUP(B29,PUC!$A$3:$B$3395,2,0) -> Servicios de seguros y reaseguros | D29: 21368000 | E29: =VLOOKUP(D29,#REF!,3,0) -> #REF! | F29: 2586592.4
B30: 131706 | C30: =VLOOKUP(B30,PUC!$A$3:$B$3395,2,0) -> Servicios de seguros y reaseguros | D30: 21527000 | E30: =VLOOKUP(D30,#REF!,3,0) -> #REF! | F30: 803450
B31: 131706 | C31: =VLOOKUP(B31,PUC!$A$3:$B$3395,2,0) -> Servicios de seguros y reaseguros | D31: 22100000 | E31: =VLOOKUP(D31,#REF!,3,0) -> #REF! | F31: 2552361.5
B32: 131706 | C32: =VLOOKUP(B32,PUC!$A$3:$B$3395,2,0) -> Servicios de seguros y reaseguros | D32: 24800000 | E32: =VLOOKUP(D32,#REF!,3,0) -> #REF! | F32: 7315239
B33: 131706 | C33: =VLOOKUP(B33,PUC!$A$3:$B$3395,2,0) -> Servicios de seguros y reaseguros | D33: 25200000 | E33: =VLOOKUP(D33,#REF!,3,0) -> #REF! | F33: 29839969
B34: 131706 | C34: =VLOOKUP(B34,PUC!$A$3:$B$3395,2,0) -> Servicios de seguros y reaseguros | D34: 25300000 | E34: =VLOOKUP(D34,#REF!,3,0) -> #REF! | F34: 953062.59
... B520: 131706 | C520: =VLOOKUP(B520,PUC!$A$3:$B$3395,2,0) -> Servicios de seguros y reaseguros | D520: 923273318 | E520: =VLOOKUP(D520,#REF!,3,0) -> #REF! | F520: 23083600
B521: 244029 | C521: =VLOOKUP(B521,PUC!$A$3:$B$3395,2,0) -> Impuesto nacional al consumo | D521: 910300000 | E521: =VLOOKUP(D521,#REF!,3,0) -> #REF! | F521: 8164348 | G521: 0
B522: 480817 | C522: =VLOOKUP(B522,PUC!$A$3:$B$3395,2,0) -> Arrendamientos operativos | D522: 41100000 | E522: =VLOOKUP(D522,#REF!,3,0) -> #REF! | F522: 0 | G522: 287430696
B523: 510401 | C523: =VLOOKUP(B523,PUC!$A$3:$B$3395,2,0) -> Aportes al ICBF | D523: 23900000 | E523: =VLOOKUP(D523,#REF!,3,0) -> #REF! | F523: 0 | G523: 529360100
B524: 510402 | C524: =VLOOKUP(B524,PUC!$A$3:$B$3395,2,0) -> Aportes al SENA | D524: 26800000 | E524: =VLOOKUP(D524,#REF!,3,0) -> #REF! | F524: 0 | G524: 352915200
B525: 521115 | C525: =VLOOKUP(B525,PUC!$A$3:$B$3395,2,0) -> Servicios públicos | D525: 37352000 | E525: =VLOOKUP(D525,#REF!,3,0) -> #REF! | F525: 0 | G525: 29321230
B526: 521115 | C526: =VLOOKUP(B526,PUC!$A$3:$B$3395,2,0) -> Servicios públicos | D526: 38900000 | E526: =VLOOKUP(D526,#REF!,3,0) -> #REF! | F526: 0 | G526: 8237470
B527: 521115 | C527: =VLOOKUP(B527,PUC!$A$3:$B$3395,2,0) -> Servicios públicos | D527: 39363000 | E527: =VLOOKUP(D527,#REF!,3,0) -> #REF! | F527: 0 | G527: 6404585
...

Sheet OPeraciones Reciprocas
B1: DEPARTAMENTO | C1: CUNDINAMARCA
B2: MUNICIPIO | C2: BOGOTA
B3: ENTIDAD | C3: LA PREVISORA S.A. COMPANIA DE SEGUROS
B4: CÓDIGO
B5: FECHA DE CORTE | C5: 30/06/2026
B7: INFORMACION SOBRE SALDOS DE OPERACIONES RECIPROCAS
E8: Valores en pesos colombianos
B9: CODIGO CONTABLE (SUBCUENTA) | C9: NOMBRE DE LA SUBCUENTA | D9: CODIGO ENTIDAD | E9: NOMBRE ENTIDAD | F9: VALOR CORRIENTE A NIVEL NACIONAL | G9: VALOR NO CORRIENTE A NIVEL NACIONAL
B10: 111005 | C10: Cuenta corriente | D10: 69600000 | E10: Banco Agrario de Colombia | F10: 2.0619996e+08 | G10: 0
B11: 111006 | C11: Cuenta de ahorro | D11: 69600000 | E11: Banco Agrario de Colombia | F11: 1000 | G11: 0
B12: 122101 | C12: Títulos de tesorería (TES) | D12: 923272394 | E12: Dirección General de Crédito Público y Tesoro Nacional (DGCPTN) | F12: 0 | G12: 3.317122e+11
B13: 122102 | C13: Certificados de depósito a término (CDT) | D13: 44200000 | E13: Financiera de Desarrollo Territorial S.A. | F13: 7527180000 | G13: 11046870000
B14: 122106 | C14: Bonos y títulos emitidos por el Gobierno General | D14: 923272394 | E14: Dirección General de Crédito Público y Tesoro Nacional (DGCPTN) | F14: 0 | G14: 1.873181e+10
B15: 122301 | C15: Títulos de tesorería (TES) | D15: 923272394 | E15: Dirección General de Crédito Público y Tesoro Nacional (DGCPTN) | F15: 0 | G15: 2.174357e+11
B16: 122302 | C16: Certificados de depósito a término (CDT) | D16: 44200000 | E16: Financiera de Desarrollo Territorial S.A. | F16: 8093807325 | G16: 16363760084
B17: 122306 | C17: Bonos y títulos emitidos por el Gobierno General | D17: 923272394 | E17: Dirección General de Crédito Público y Tesoro Nacional (DGCPTN) | F17: 0 | G17: 3.5382031e+09
B18: 122308 | C18: Bonos y títulos emitidos por las entidades financieras | D18: 41200000 | E18: Banco de Comercio Exterior de Colombia S.A. | F18: 5116606352 | G18: 0
B19: 122604 | C19: Sociedades de economía mixta | D19: 44600000 | E19: Fiduciaria la Previsora S.A. | F19: 0 | G19: 2.6754458e+11
B20: 122904 | C20: Sociedades de economía mixta | D20: 41100000 | E20: Positiva Compañía de Seguros S.A. | F20: 0 | G20: 9.3789111e+10
B21: 122205 | C21: Sociedades de economía mixta | D21: 41300000 | E21: Fondo Nacional del Ahorro S.A. | F21: 0 | G21: 4.0960186e+10
... B649: 131706 | C649: Servicios de seguros y reaseguros | D649: 120244000 | E649: E.S.E. Hospital San Lucas - El Molino | F649: 21964534 | G649: 0
B650: 131706 | C650: Servicios de seguros y reaseguros | D650: 923273669 | E650: #N/A | F650: 35631655 | G650: 0
B651: 131706 | C651: Servicios de seguros y reaseguros | D651: 923272859 | E651: IPS - Indígena del Pueblo Inga en Aponte | F651: 12052355 | G651: 0
B652: 131706 | C652: Servicios de seguros y reaseguros | D652: 11700000 | E652: Ministerio de Minas y Energía | F652: 15427750 | G652: 0
B653: 131706 | C653: Servicios de seguros y reaseguros | D653: 923272955 | E653: Sistema Estratégico de Transporte Público de Ibagué S.A.S | F653: 43486153 | G653: 0
B654: 131706 | C654: Servicios de seguros y reaseguros | D654: 210650006 | E654: Acacías | F654: 3946706.4 | G654: 0
B655: 131706 | C655: Servicios de seguros y reaseguros | D655: 220168001 | E655: Instituto Municipal de Empleo y Fomento Empresarial Bucaramanga | F655: 4616427 | G655: 0
B656: 131706 | C656: Servicios de seguros y reaseguros | D656: 220168101 | E656: E.S.E Hospital Local del Bolívar - Santander | F656: 17944297 | G656: 0
B657: 131706 | C657: Servicios de seguros y reaseguros | D657: 215786757 | E657: San Miguel - Putumayo | F657: 39184398 | G657: 0
B658: 131706 | C658: Servicios de seguros y reaseguros | D658: 123447000 | E658: Hospital Nuestra Señora Santa Ana | F658: 6824604.1 | G658: 0
B659: 131706 | C659: Servicios de seguros y reaseguros | D659: 212268322 | E659: Guapotá | F659: 13357798 | G659: 0
B660: 131706 | C660: Servicios de seguros y reaseguros | D660: 210719807 | E660: Timbío | F660: 28359925 | G660: 0
B661: 131706 | C661: Servicios de seguros y reaseguros | D661: 217266572 | E661: Pueblo Rico - Risaralda | F661: 66686470 | G661: 0
B662: 131706 | C662: Servicios de seguros y reaseguros | D662: 130466000 | E662: Lotería del Risaralda | F662: 85970973 | G662: 0
... B719: 131706 | C719: Servicios de seguros y reaseguros | D719: 226886568 | E719: Empresa de Acueducto y Alcantarillado Puerto Asís | F719: 25543509 | G719: 0
B720: 131706 | C720: Servicios de seguros y reaseguros | D720: 923273635 | E720: #N/A | F720: 7200000 | G720: 0
B721: 131706 | C721: Servicios de seguros y reaseguros | D721: 216813268 | E721: El Peñón - Bolívar | F721: 13328000 | G721: 0
B722: 131706 | C722: Servicios de seguros y reaseguros | D722: 220168271 | E722: I.P.S. San José de Florián - Santander | F722: 25704506 | G722: 0
B723: 131706 | C723: Servicios de seguros y reaseguros | D723: 124173000 | E723: E.S.E. Hospital Nuestra Señora del Carmen - Carmen de Apicalá | F723: 3725885.4 | G723: 0
B724: 131706 | C724: Servicios de seguros y reaseguros | D724: 217944279 | E724: Fonseca | F724: 17255000 | G724: 0
...

Sheet PUC
A1: CGC RESOLUCIÓN 117 DE 2015 VERSIÓN 2015.01 | D1: CGC RESOLUCIÓN 356 DE 2007 VERSIÓN 2007.13
A2: CÓDIGO | B2: DENOMINACIÓN | D2: CÓDIGO | E2: DENOMINACIÓN
A3: 1 | B3: ACTIVOS | D3: 1 | E3: ACTIVOS
A4: 11 | B4: EFECTIVO Y EQUIVALENTES AL EFECTIVO | D4: 11 | E4: EFECTIVO
A5: 1105 | B5: CAJA | D5: 1105 | E5: CAJA
A6: 110501 | B6: Caja principal | D6: 110501 | E6: Caja principal
A7: 110502 | B7: Caja menor | D7: 110502 | E7: Caja menor
A8: 1107 | B8: RESERVAS INTERNACIONALES | D8: 1107 | E8: RESERVAS INTERNACIONALES
A9: 110701 | B9: Oro monetario | D9: 110701 | E9: Oro monetario
A10: 110702 | B10: Derechos especiales de giro (DEG) | D10: 110702 | E10: Derechos especiales de giro (DEG)
A11: 110703 | B11: Pesos andinos | D11: 110703 | E11: Pesos andinos
A12: 110704 | B12: Convenios internacionales | D12: 110704 | E12: Convenios internacionales
A13: 110705 | B13: Fondo latinoamericano de reservas | D13: 110705 | E13: Fondo latinoamericano de reservas
A14: 110706 | B14: Posición de reserva FMI | D14: 110706 | E14: Posición de reserva FMI
... A32: 111509 | B32: Compromisos de reventa de inversiones de administración de liquidez | D32: 111504 | E32: Compromisos de reventa de inversiones en títulos de deuda
D33: 111505 | E33: Compromisos de reventa de inversiones en títulos participativos
A34: 111510 | B34: Compromisos de reventa de préstamos por cobrar | D34: 111506 | E34: Compromisos de reventa deudores
A35: 1120 | B35: FONDOS EN TRÁNSITO | D35: 1120 | E35: FONDOS EN TRÁNSITO
A36: 112005 | B36: Cuenta corriente | D36: 112005 | E36: Cuenta corriente
A37: 112006 | B37: Cuenta de ahorro | D37: 112006 | E37: Cuenta de ahorro
A38: 112090 | B38: Otros depósitos | D38: 112090 | E38: Otros depósitos
A39: 1132 | B39: EFECTIVO DE USO RESTRINGIDO | D39: 11 | E39: EFECTIVO
A40: 113205 | B40: Caja | D40: 1105 | E40: CAJA
A41: 113210 | B41: Depósitos en instituciones financieras | D41: 1110 | E41: DEPÓSITOS EN INSTITUCIONES FINANCIERAS
A42: 113212 | B42: Fondos especiales para la administración de liquidez | D42: 1110 | E42: DEPÓSITOS EN INSTITUCIONES FINANCIERAS
A43: 113215 | B43: Fondos vendidos con compromiso de reventa | D43: 1115 | E43: FONDOS VENDIDOS CON COMPROMISO DE REVENTA
A44: 113220 | B44: Fondos en tránsito | D44: 1120 | E44: FONDOS EN TRÁNSITO
A45: 1133 | B45: OTROS EQUIVALENTES AL EFECTIVO | D45: 1221 | E45: INVERSIONES DE ADMINISTRACIÓN DE LIQUIDEZ A VALOR DE MERCADO (VALOR RAZONABLE) CON CAMBIOS EN EL RESULTADO
D46: 1112 | E46: ADMINISTRACIÓN DE LIQUIDEZ
A47: 113390 | B47: Otros equivalentes al efectivo | D47: 1221 | E47: INVERSIONES DE ADMINISTRACIÓN DE LIQUIDEZ A VALOR DE MERCADO (VALOR RAZONABLE) CON CAMBIOS EN EL RESULTADO
D48: 1112 | E48: ADMINISTRACIÓN DE LIQUIDEZ
A49: 12 | B49: INVERSIONES E INSTRUMENTOS DERIVADOS | D49: 12 | E49: INVERSIONES E INSTRUMENTOS DERIVADOS
A50: 1212 | B50: INVERSIONES DE LAS RESERVAS INTERNACIONALES | D50: 1212 | E50: INVERSIONES DE LAS RESERVAS INTERNACIONALES
A51: 121201 | B51: Depósitos a término en bancos del exterior | D51: 121201 | E51: Depósitos a término en bancos del exterior
A52: 121202 | B52: Depósitos a término call en bancos del exterior | D52: 121202 | E52: Depósitos a término call en bancos del exterior
A53: 121203 | B53: Certificados de depósitos | D53: 121203 | E53: Certificados de depósitos
A54: 121204 | B54: Papeles a descuento | D54: 121204 | E54: Papeles a descuento
A55: 121205 | B55: Inversiones de portafolio en administración | D55: 121205 | E55: Inversiones de portafolio en administración
A56: 121206 | B56: Bonos | D56: 121206 | E56: Bonos
A57: 121207 | B57: Acuerdos de recompra | D57: 121207 | E57: Acuerdos de recompra
...
